Workbook

Sheet 汇总
A1: 凉山交城·学府雅筑配建幼儿园项目劳务分包清单汇总表
A2: 序号 | B2: 分项名称 | C2: 投标价 | D2: 控制价 | E2: 备注
C3: 合价（元） | D3: 合价（元）
A4: 一 | B4: 基坑支护 | D4: =基坑支护!I10 -> 126046.69
A5: 二 | B5: 泥工班组 | D5: =泥工班组!I26 -> 703663.4
A6: 三 | B6: 钢筋班组 | D6: =钢筋班组!I10 -> 600774.9
A7: 四 | B7: 模板班组 | D7: =模板班组!I7 -> 1370600
A8: 五 | B8: 脚手架班组 | D8: =脚手架班组!I8 -> 225022.62
A9: 六 | B9: 水电班组 | D9: =水电班组!I8 -> 266382.96
A10: 七 | B10: 小计 | D10: =SUM(D4:D9) -> 3292490.6
A11: 八 | B11: 暂列金 | D11: 150000
A12: 九 | B12: 合计 | D12: =D10+D11 -> 3442490.6

Sheet 基坑支护
A1: 学府雅筑配建幼儿园项目——劳务分包清单
A2: 基坑支护清单
A3: 基坑支护清单编制说明 一、工程量清单编制依据 1.本清单工程量适用计算规则:按清单内工程量计算规则为准。 二、工程质量、施工等的特殊要求 1.工程质量要求：达到国家现行施工验收规范合格标准； 2.施工要求：应符合施工规范、验收标准及甲方公司施工技术标准（详附件）的相关要求。工程施工应满足当地政府及当地建设行政主管部门对工程建设的有关规定，并按经批准的施工组织设计实施； 3.工程质量、材料、施工等的特殊要求：具体以最终各项目合同相应条款为准。 三、报价须知 1.乙方负责所有甲供材到场后的人工上下车、标识、清点、堆放、保护措施、二次及多次倒运等，费用在报价中综合考虑； 2.清单综合单价中已综合考虑施工难度、风险、停电、停水、层高、施工场地不足、成品保护等因素，后期不因各种原因造成的队伍窝工待工、材料及堆场二次甚至多次转运、政策性调整等各种因素进行价格调整； 3.工期要求：具体工期计算以甲方项目部书面通知为准，所有工期节点按照甲方项目部签字下发的书面为准，并服从甲方各节点工期安排，满足周计划、月计划及总进度计划； 4.若因不可抗力因素（含环保检查影响），导致甲供材料供应不及时或现场停工等情况，乙方不得因任何原因向甲方索赔，该部分费用乙方报价综合考虑； 5.本工程的主体结构砼为商品砼，无论砼采用地泵或车泵方式输送，乙方已考虑在综合单价中，不因砼泵送方式等调整单价； 6.本工程产生的所有建筑垃圾由乙方负责堆放至甲方指定地点，此费用已考虑在综合单价中； 7.所有构件的基层清理、找补及处理（拉毛、甩浆、压光等）均包含在相应项目的费用中，不另行增加； 8.赶工费用已综合考虑在各项单价中，不再单独计取，具体按各项目施工进度安排，详工期标准文件； 9.垂直运输说明：塔吊、施工电梯垂直运输机械甲供，存在垂直运输盲区的乙方必须安排人工搬运，乙方已知悉，不得因垂直运输机械布置向甲方索赔任何费用； 10.本项目范围内的所有工作，不涉及任何零星用工；涉及合同范围外的用工，后期以各项目具体情况为准且必须由乙方负责人向甲方项目经理申请同意后方可实施； 11.清单项中描述不完全的后期应以各项目具体情况为准； 12.本清单漏项的项目，后期签订补充协议予以确认。
A4: 序号 | B4: 项目名称 | C4: 项目特征 | D4: 单位 | E4: 暂定工程量 | F4: 2026.3.11协商价（中标价） | H4: 控制价 | J4: 投标价 | L4: 工程量计算规则 | M4: 备注
F5: 含税单价（元） | G5: 含税合价（元） | H5: 含税单价（元） | I5: 含税合价（元） | J5: 含税单价（元） | K5: 含税合价（元）
A6: 1 | B6: 80mm厚锚网喷 | C6: 1、工作内容：清理壁面、打锚钉、钢筋网制作及铺设、喷射混凝土、施工泄水孔、养护、喷射施工平台搭设、拆除等； 2、锚钉：坡面设置锚钉，垂直于坡面的锚钉间距不大于1.5m，锚钉C14，锚固深度350mm； 3、钢筋网片：A8@200*200 4、混凝土：80mm厚C25细石混凝土 5、泄水孔：间距1.5m*1.5m，A50PVC管，400长，含滤水材料施工； 6、具体施工做法满足设计及规范要求； 7、所有材料乙供。 | D6: m2 | E6: =39.4*6.64+51.59*12.11 -> 886.3709 | F6: 86 | G6: =E6*F6 -> 76227.897 | H6: =F6*1.1 -> 94.6 | I6: =H6*E6 -> 83850.687 | L6: 按实际施工尺寸以面积计算 | M6: 含喷浆机械需要的柴油及发电机
A7: 2 | B7: 50mm厚素喷 | C7: 1、部位：马道 2、材质：C20素砼，厚度50mm 3、具体施工做法满足设计及规范要求 4、所有材料乙供。 | D7: m2 | E7: 400 | F7: 50 | G7: =E7*F7 -> 20000 | H7: =F7*1.1 -> 55 | I7: =H7*E7 -> 22000 | L7: 按实际施工尺寸以面积计算 | M7: 含喷浆机械需要的柴油及发电机
A8: 3 | B8: 砖砌排水沟 | C8: 1、部位：基坑底部、顶部 2、垫层：C15混凝土100mm厚； 3、沟壁砌筑：MU10页岩标准砖； 4、沟壁内侧及顶面抹灰：M7.5水泥砂浆，厚度30mm； 5、沟底纵坡1%-2%； 6、具体施工做法满足设计及规范要求； 7、商砼、钢筋、砖、砂石、水泥、成品砂浆甲供，其余材料乙供。 | D8: m | E8: 300 | F8: 50 | G8: =E8*F8 -> 15000 | H8: =F8*1.1 -> 55 | I8: =H8*E8 -> 16500 | L8: 按实际施工尺寸以中心线长度计算
A9: 4 | B9: 砖砌集水坑 | C9: 1、部位：基坑底部、顶部 2、垫层：C15混凝土100mm厚； 3、沟壁砌筑：MU10页岩标准砖； 4、沟壁内侧及顶面抹灰：M7.5水泥砂浆，厚度30mm； 5、沿排水沟方向间距不大于50m，设置排水沟； 6、具体施工做法、尺寸满足设计及规范要求； 7、商砼、钢筋、砖、砂石、水泥、成品砂浆甲供，其余材料乙供。 | D9: 个 | E9: 8 | F9: 420 | G9: =E9*F9 -> 3360 | H9: =F9*1.1 -> 462 | I9: =H9*E9 -> 3696 | L9: 按实际施工数量以个计算
A10: 4 | B10: 合计 | G10: =SUM(G6:G9) -> 114587.9 | I10: =SUM(I6:I9) -> 126046.69
A11: 5 | B11: 零星用工普工 | D11: 工日 | E11: 1 | F11: 200 | H11: =F11*1.1 -> 220
A12: 6 | B12: 零星用工技工 | D12: 工日 | E12: 1 | F12: 300 | H12: =F12*1.1 -> 330
A13: 备注：数量为暂定数量，最终按现场实际结算。以上价格均为含税价。

Sheet 泥工班组
A1: 学府雅筑配建幼儿园项目——劳务分包清单
A2: 泥工班组劳务分包清单
A3: 泥工班组清单编制说明 一、工程量清单编制依据 1.本清单工程量适用计算规则:按清单内工程量计算规则为准。 二、工程质量、施工等的特殊要求 1.工程质量要求：达到国家现行施工验收规范合格标准； 2.施工要求：应符合施工规范、验收标准及甲方公司施工技术标准（详附件）的相关要求。工程施工应满足当地政府及当地建设行政主管部门对工程建设的有关规定，并按经批准的施工组织设计实施； 3.工程质量、材料、施工等的特殊要求：具体以最终各项目合同相应条款为准。 三、报价须知 1.乙方负责所有甲供材到场后的人工上下车、标识、清点、堆放、保护措施、二次及多次倒运等，费用在报价中综合考虑； 2.清单综合单价中已综合考虑施工难度、风险、停电、停水、层高、施工场地不足、成品保护等因素，后期不因各种原因造成的队伍窝工待工、材料及堆场二次甚至多次转运、政策性调整等各种因素进行价格调整； 3.工期要求：具体工期计算以甲方项目部书面通知为准，所有工期节点按照甲方项目部签字下发的书面为准，并服从甲方各节点工期安排，满足周计划、月计划及总进度计划； 4.若因不可抗力因素（含环保检查影响），导致甲供材料供应不及时或现场停工等情况，乙方不得因任何原因向甲方索赔，该部分费用乙方报价综合考虑； 5.本工程的主体结构砼为商品砼，无论砼采用地泵或车泵方式输送，乙方已考虑在综合单价中，不因砼泵送方式等调整单价； 6.本工程产生的所有建筑垃圾由乙方负责堆放至甲方指定地点，此费用已考虑在综合单价中； 7.所有构件的基层清理、找补及处理（拉毛、甩浆、压光等）均包含在相应项目的费用中，不另行增加； 8.赶工费用已综合考虑在各项单价中，不再单独计取，具体按各项目施工进度安排，详工期标准文件； 9.垂直运输说明：塔吊、施工电梯垂直运输机械甲供，存在垂直运输盲区的乙方必须安排人工搬运，乙方已知悉，不得因垂直运输机械布置向甲方索赔任何费用； 10.本项目范围内的所有工作，不涉及任何零星用工；涉及合同范围外的用工，后期以各项目具体情况为准且必须由乙方负责人向甲方项目经理申请同意后方可实施； 11.清单项中描述不完全的后期应以各项目具体情况为准； 12.本清单漏项的项目，后期签订补充协议予以确认。
A4: 序号 | B4: 项目名称 | C4: 项目特征 | D4: 单位 | E4: 暂定工程量 | F4: 2026.3.11协商价（中标价） | H4: 控制价 | J4: 投标价 | L4: 工程量计算规则 | M4: 备注
F5: 含税单价（元） | G5: 含税合价（元） | H5: 含税单价（元） | I5: 含税合价（元） | J5: 含税单价（元） | K5: 含税合价（元）
A6: 1 | B6: 人工捡底 | C6: 1.工作内容：土方人工捡底、平整、清理、标高控制放线等。 2.捡底厚度根据现场实际综合考虑，费用含在单价中。 | D6: m2 | E6: 2000 | F6: 6 | G6: =E6*F6 -> 12000 | H6: =F6*1.1 -> 6.6 | I6: =H6*E6 -> 13200 | L6: 按设计图示尺寸以面积计算
A7: 2 | B7: 混凝土换填 | C7: 1.换填材质综合考虑，满足设计及施工要求。 2.混凝土的运输、浇筑、养护等； 3.泵送措施投标单位综合考虑，不再单独计取费用。换填采用原槽或者支模等措施综合考虑，不再单独计量计价； 4.自备混凝土振捣机具（振动器、振动棒和平板振动器等）、赶枋、水管、广线、斗车、灰桶、拉毛用的鬃刷等工具、用具、容器、塑料薄膜等。 5.其他：满足设计及规范要求。 6.混凝土为甲供材料，其余材料为乙方自行采购，考虑在报价中。 | D7: m3 | E7: 1500 | F7: 38 | G7: =E7*F7 -> 57000 | H7: =F7*1.1 -> 41.8 | I7: =H7*E7 -> 62700 | L7: 按现场尺寸以按换填实施体积计算 | M7: 1.泵送费未包含在单价中。2.无论采用何种泵送方式，人工费均不另行增加。
A8: 3 | B8: 多孔砖砌筑 | C8: 1.工作内容：包含零星砂浆拌合制作、墙体砌筑（包含配砖），钢丝网加强、封堵、刮缝、浇水养护（砂浆强度、砌体厚度、抹灰厚度等已综合考虑）； 2.砖、砂、水泥、商品砂浆、钢筋由甲方采购；其他材料由乙方自采，费用包含在单价中。 | D8: m3 | E8: 190 | F8: 300 | G8: =E8*F8 -> 57000 | H8: =F8*1.1 -> 330 | I8: =H8*E8 -> 62700 | L8: 按设计图示尺寸以体积计算
A9: 4 | B9: 空心砖砌筑 | C9: 1.工作内容：包含零星砂浆拌合制作、墙体砌筑（包含配砖），钢丝网加强、封堵、刮缝、浇水养护（砂浆强度、砌体厚度、抹灰厚度等已综合考虑）； 2.砖、砂、水泥、商品砂浆、钢筋由甲方采购；其他材料由乙方自采，费用包含在单价中。 | D9: m3 | E9: 190 | F9: 300 | G9: =E9*F9 -> 57000 | H9: =F9*1.1 -> 330 | I9: =H9*E9 -> 62700 | L9: 按设计图示尺寸以体积计算
A10: 5 | B10: 实心砖砌筑 | C10: 1.工作内容：包含零星砂浆拌合制作、墙体砌筑（包含配砖），钢丝网加强、封堵、刮缝、浇水养护（砂浆强度、砌体厚度、抹灰厚度等已综合考虑）； 2.砖、砂、水泥、商品砂浆、钢筋由甲方采购；其他材料由乙方自采，费用包含在单价中。 | D10: m3 | E10: 100 | F10: 300 | G10: =E10*F10 -> 30000 | H10: =F10*1.1 -> 330 | I10: =H10*E10 -> 33000 | L10: 按设计图示尺寸以体积计算
A11: 6 | B11: 加气砌块砌筑 | C11: 1.工作内容：包含零星砂浆拌合制作、墙体砌筑（包含配砖），钢丝网加强、封堵、刮缝、浇水养护（砂浆强度、砌体厚度、抹灰厚度等已综合考虑）； 2.砌体、砂、水泥、商品砂浆、钢筋由甲方采购；其他材料由乙方自采，费用包含在单价中。 | D11: m3 | E11: 1 | F11: 230 | G11: =E11*F11 -> 230 | H11: =F11*1.1 -> 253 | I11: =H11*E11 -> 253 | L11: 按设计图示尺寸以体积计算
A12: 7 | B12: 砖胎膜砌筑 | C12: 1.材质规格：综合考虑； 2.墙体类型及厚度：综合考虑； 3.自备所有砌体工程所需的施工机具、用具、料斗容器等； 4.其他：满足设计及规范要求； 5.砌体材料、砂浆为甲供材料，其余材料为乙方自行采购，考虑在报价中。 | D12: m3 | E12: 60 | F12: 300 | G12: =E12*F12 -> 18000 | H12: =F12*1.1 -> 330 | I12: =H12*E12 -> 19800 | L12: 1.按批准的施工方案及现场收方以体积计算； 2.招标时按常规做法估算。
A13: 8 | B13: 垫层浇筑 | C13: 1.工作内容：包含浇筑面的清理、混凝土浇筑、振捣、养护、收面等； 2.材料提供：商品混凝土由甲方采购；其他材料由乙方自采，费用包含在单价中。 3.混凝土不分部位、不分标号、不分施工工艺，均在价格中综合考虑。 | D13: m3 | E13: 200 | F13: 40 | G13: =E13*F13 -> 8000 | H13: =F13*1.1 -> 44 | I13: =H13*E13 -> 8800 | L13: 按设计图示尺寸以体积计算
A14: 9 | B14: 混凝土浇筑 | C14: 1.工作内容：包含浇筑面的清理、混凝土浇筑、振捣、养护、收面等； 2.材料提供：商品混凝土由甲方采购；其他材料由乙方自采，费用包含在单价中。 3.混凝土不分部位、不分标号（除垫层混凝土）、不分施工工艺，均在价格中综合考虑。 | D14: m3 | E14: 3240 | F14: 42 | G14: =E14*F14 -> 136080 | H14: =F14*1.1 -> 46.2 | I14: =H14*E14 -> 149688 | L14: 按设计图示尺寸以体积计 （不扣除钢筋体积） | M14: 1.泵送费未包含在单价中。2.无论采用何种泵送方式，人工费均不另行增加。
A15: 10 | B15: 砖胎膜抹灰 | C15: 1.部位：砖胎膜外侧及顶面 2.做法：水泥砂浆抹灰，厚度按施工方案综合考虑 3.主要内容：调运砂浆、分层找平、洒水湿润、罩面压光等全部操作过程； 4.砂浆为甲供材料，其余材料为乙方自行采购，考虑在报价中。 | D15: m2 | E15: 330 | F15: 12 | G15: =E15*F15 -> 3960 | H15: =F15*1.1 -> 13.2 | I15: =H15*E15 -> 4356 | L15: 1.按批准的施工方案及现场收方以体积计算； 2.招标时按常规做法估算。
A16: 11 | B16: 立面砂浆找平层、保护层、随砌随抹 | C16: 1.包含基层清理、界面处理、结合层、水泥砂浆的浇筑（摊平）、扫毛或刮出纹道、收面及养护； 2、厚度、材质按设计综合考虑； 3、材料提供：水泥砂浆由甲方采购；其他材料由乙方自采，费用包含在单价中。 | D16: m2 | E16: 92 | F16: 12 | G16: =E16*F16 -> 1104 | H16: =F16*1.1 -> 13.2 | I16: =H16*E16 -> 1214.4 | L16: 按设计图示尺寸以面积计算，工程总量按各层面积累加计算。
A17: 12 | B17: 楼地面、屋面砂浆或混凝土找平层、找坡层、保护层、刚性层 | C17: 1.包含基层清理、界面处理、结合层、水泥砂浆的浇筑（摊平）、收面及养护、屋面刚性层钢筋安设、分隔缝设置、油膏嵌缝等； 2、厚度、材质按设计综合考虑； 3、材料提供：水泥砂浆、混凝土、钢筋由甲方采购；其他材料由乙方自采，费用包含在单价中。 4、楼地面、屋面砂浆或混凝土找平层、找坡层、保护层、刚性层均按此项计算，单价综合考虑。 | D17: m2 | E17: 4500 | F17: 12 | G17: =E17*F17 -> 54000 | H17: =F17*1.1 -> 13.2 | I17: =H17*E17 -> 59400 | L17: 按设计图示尺寸以面积计算，工程总量按各层面积累加计算。
A18: 13 | B18: 内墙面一般抹灰 | C18: 1、工作内容：包含基层清理、界面处理、结合层、砂浆制作运输、架体搭设、挂钢丝网（玻纤网）、底层抹灰、抹面层、扫毛或刮出纹道； 2、厚度、材质按设计综合考虑； 3、对拉螺栓、止水丝杆等地上地下各类洞口封堵、防水处理、收边收口费用综合考虑在单价中。 4、材料提供：水泥砂浆由甲方采购；其他材料由乙方自采，费用包含在单价中。 5、除所有山墙及外墙面一般抹灰，天棚抹灰、墙面随砌随抹外，其余抹灰均按墙面一般抹灰计算。 | D18: m2 | E18: 4400 | F18: 18 | G18: =E18*F18 -> 79200 | H18: =F18*1.1 -> 19.8 | I18: =H18*E18 -> 87120 | L18: 按设计图示尺寸以面积计算
A19: 14 | B19: 外墙面一般抹灰 | C19: 1.工作内容：包含基层清理、界面处理、结合层、砂浆制作运输、架体搭设、挂钢丝网（玻纤网）、底层抹灰、抹面层、扫毛或刮出纹道； 对拉螺栓、止水丝杆等各类洞口封堵、收边收口。 2、厚度、材质按设计综合考虑； 3、对拉螺栓、止水丝杆等地上地下各类洞口封堵、防水处理、收边收口费用综合考虑在单价中。 4、材料提供：水泥砂浆由甲方采购；其他材料由乙方自采，费用包含在单价中。 | D19: m2 | E19: 2100 | F19: 35 | G19: =E19*F19 -> 73500 | H19: =F19*1.1 -> 38.5 | I19: =H19*E19 -> 80850 | L19: 按设计图示尺寸以面积计算
A20: 15 | B20: 外墙挤塑板保护层 | C20: 1.地下室外墙面，含基层清理、成品挤塑板铺设等全部定额工序。 2.发包人提供挤塑板，除此以外所有材料、机具及劳保用品均由承包人自备。 | D20: m2 | E20: 850 | F20: 6 | G20: =E20*F20 -> 5100 | H20: =F20*1.1 -> 6.6 | I20: =H20*E20 -> 5610 | L20: 按设计图示尺寸以面积计算
A21: 16 | B21: 屋面挤塑聚苯板保温层 | C21: 1.屋面保温层铺贴，含基层清理、成品挤塑板铺设等全部定额工序。 2.发包人提供挤塑板，除此以外所有材料、机具及劳保用品均由承包人自备。 | D21: m2 | E21: 1350 | F21: 6 | G21: =E21*F21 -> 8100 | H21: =F21*1.1 -> 6.6 | I21: =H21*E21 -> 8910 | L21: 按设计图示尺寸以面积计算
A22: 17 | B22: 房心回填 | C22: 1.本工程设计图纸范围内的所有房心施工。 2.承包人负责材料二次转运、回填、夯实等全部工作内容。 3.发包人提供实体施工的炉渣、回填土，除此以外所有的手头工具、水平运输工具、劳保用品均由承包人自备。 | D22: m3 | E22: 200 | F22: 42 | G22: =E22*F22 -> 8400 | H22: =F22*1.1 -> 46.2 | I22: =H22*E22 -> 9240 | L22: 按设计图示尺寸以体积计算
A23: 18 | B23: 屋面种植土回填 | C23: 1.本工程设计图纸范围内的屋面种植土铺设。 2.承包人负责材料二次转运、回填、夯实等全部工作内容。 3.发包人提供实体施工的种植土，除此以外所有的手头工具、水平运输工具、劳保用品均由承包人自备。 | D23: m3 | E23: 120 | F23: 38 | G23: =E23*F23 -> 4560 | H23: =F23*1.1 -> 41.8 | I23: =H23*E23 -> 5016 | L23: 按设计图示尺寸以体积计算
A24: 19 | B24: 排水沟、散水沟 | C24: 1.做法：详见施工图，满足设计及规范要求； 2.主要内容:土方挖、运、填；砼运输、浇筑、振捣、养护；砌砖、刮缝、抹灰 ；沟盖板安装；材料运输等全部定额工序。 3.砌块、砂浆、混凝土、水泥、沟盖板为甲供，其余材料为乙方自行采购，考虑在报价中。 | D24: m | E24: 270 | F24: 86 | G24: =E24*F24 -> 23220 | H24: =F24*1.1 -> 94.6 | I24: =H24*E24 -> 25542 | L24: 1.按图示以中心线长度计算
A25: 20 | B25: 散水、坡道 | C25: 1.做法：详见施工图，满足设计及规范要求； 2.主要内容:土方挖、运、填；砼运输、浇筑、振捣、养护；砌砖、刮缝、抹灰 ；材料运输等全部定额工序。 3.砌块、砂浆、混凝土、水泥为甲供，其余材料为乙方自行采购，考虑在报价中。 | D25: m2 | E25: 180 | F25: 18 | G25: =E25*F25 -> 3240 | H25: =F25*1.1 -> 19.8 | I25: =H25*E25 -> 3564 | L25: 按设计图示尺寸以面积计算
A26: 21 | B26: 合计 | G26: =SUM(G6:G25) -> 639694 | I26: =SUM(I6:I25) -> 703663.4
A27: 22 | B27: 零星用工普工 | D27: 工日 | E27: 1 | F27: 200 | H27: =F27*1.1 -> 220
A28: 23 | B28: 零星用工技工 | D28: 工日 | E28: 1 | F28: 300 | H28: =F28*1.1 -> 330
A29: 备注：数量为暂定数量，最终按现场实际结算。以上价格均为含税价。

Sheet 钢筋班组
A1: 学府雅筑配建幼儿园项目——劳务分包清单
A2: 钢筋班组劳务分包清单
A3: 钢筋班组清单编制说明 一、工程量清单编制依据 1.本清单工程量适用计算规则:按清单内工程量计算规则为准。 二、工程质量、施工等的特殊要求 1.工程质量要求：达到国家现行施工验收规范合格标准； 2.施工要求：应符合施工规范、验收标准及甲方公司施工技术标准（详附件）的相关要求。工程施工应满足当地政府及当地建设行政主管部门对工程建设的有关规定，并按经批准的施工组织设计实施； 3.工程质量、材料、施工等的特殊要求：具体以最终各项目合同相应条款为准。 三、报价须知 1.乙方负责所有甲供材到场后的人工上下车、标识、清点（含数量确认）、分类堆码、二次及多次倒运等，费用已在报价中综合考虑； 2.清单综合单价中已综合考虑施工难度、风险、停电、停水、层高、施工场地不足、成品保护等因素，后期不因各种原因造成的队伍窝工待工、材料及堆场二次甚至多次转运、政策性调整等各种因素进行价格调整； 3.工期要求：具体工期计算以甲方项目部书面通知为准，所有工期节点按照甲方项目部签字下发的书面为准，并服从甲方各节点工期安排，满足周计划、月计划及总进度计划； 4.若因不可抗力因素（含环保检查影响），导致甲供材料供应不及时或现场停工等情况，乙方不得因任何原因向甲方索赔，该部分费用乙方报价综合考虑； 5.本工程产生的所有建筑垃圾由乙方负责堆放至甲方指定地点，此费用已考虑在综合单价中； 6.砌体及二次结构钢筋所采用施工方式（植筋/预留预埋）由乙方自行综合考虑，费用包含在综合单价内； 7.赶工费用已综合考虑在各项单价中，不再单独计取，具体按各项目施工进度安排，详工期标准文件； 若因不可抗力因素（含环保检查影响），导致甲供材料供应不及时或现场停工等情况，乙方不得因任何原因向甲方索赔，该部分费用乙方报价综合考虑； 8.垂直运输说明：塔吊、施工电梯垂直运输机械甲供，存在垂直运输盲区的乙方必须安排人工搬运，乙方已知悉，不得因垂直运输机械布置向甲方索赔任何费用； 9.本项目范围内的所有工作，不涉及任何零星用工；涉及合同范围外的用工，后期以各项目具体情况为准且必须由乙方负责人向甲方项目经理申请同意后方可实施； 10.清单项中描述不完全的后期应以各项目具体情况为准； 11.本清单漏项的项目，后期签订补充协议予以确认。
A4: 序号 | B4: 项目名称 | C4: 项目特征 | D4: 单位 | E4: 暂定工程量 | F4: 2026.3.11协商价（中标价） | H4: 控制价 | J4: 投标价 | L4: 工程量计算规则 | M4: 备注
F5: 含税单价（元） | G5: 含税合价（元） | H5: 含税单价（元） | I5: 含税合价（元） | J5: 含税单价（元） | K5: 含税合价（元）
A6: 1 | B6: 钢筋制作安装（地上） | C6: 1.工作内容：包含钢筋制作、加工、焊接和套筒连接、安装（钢筋连接方式、钢筋的类型及级别已综合考虑）； 2.材料提供：主材钢筋由甲方采购；其他辅材及消耗性材料包括套筒由乙方自采，费用包含在单价中； 3.钢筋的垂直运输费用已包含在单价中。 | D6: t | E6: 358.62 | F6: 1200 | G6: =E6*F6 -> 430344 | H6: =F6*1.1 -> 1320 | I6: =H6*E6 -> 473378.4 | L6: 以设计图及理论重量按吨计算
A7: 2 | B7: 钢筋制作安装（地下） | C7: 1.工作内容：包含钢筋制作、加工、焊接和套筒连接、安装（钢筋连接方式、钢筋的类型及级别已综合考虑）； 2.材料提供：主材钢筋由甲方采购；其他辅材及消耗性材料包括套筒由乙方自采，费用包含在单价中； 3.钢筋的垂直运输费用已包含在单价中。 | D7: t | E7: 104.25 | F7: 1100 | G7: =E7*F7 -> 114675 | H7: =F7*1.1 -> 1210 | I7: =H7*E7 -> 126142.5 | L7: 以设计图及理论重量按吨计算
A8: 3 | B8: 钢板止水带制作安装 | C8: 1.位置：地下室底板、顶板、墙身后浇带止水钢板 2.止水带材料种类：钢板止水带，规格综合 3.其余满足设计、规范及其他项目技术验收要求 4.止水钢板为甲供材料，其余材料为乙方自行采购，考虑在报价中。 | D8: m | E8: 30 | F8: 18 | G8: =E8*F8 -> 540 | H8: =F8*1.1 -> 19.8 | I8: =H8*E8 -> 594 | L8: 1.按设计图示尺寸以长度计算
A9: 4 | B9: 预埋铁件 | C9: 1.部位、做法详见施工图，满足设计及规范要求； 2.主要内容：预埋铁件制作、安装、焊接、刷漆等； 3.其他满足设计及验收规范要求。 4.钢材为甲供，其余辅材为乙方自行采购，考虑在报价中。 | D9: t | E9: 0.5 | F9: 1200 | G9: =E9*F9 -> 600 | H9: =F9*1.1 -> 1320 | I9: =H9*E9 -> 660 | L9: 1.按设计图示尺寸以质量计算
A10: 5 | B10: 合计 | G10: =SUM(G6:G9) -> 546159 | I10: =SUM(I6:I9) -> 600774.9
A11: 6 | B11: 零星用工普工 | D11: 工日 | E11: 1 | F11: 200 | H11: =F11*1.1 -> 220
A12: 7 | B12: 零星用工技工 | D12: 工日 | E12: 1 | F12: 300 | H12: =F12*1.1 -> 330
A13: 备注：数量为暂定数量，最终按现场实际结算。以上价格均为含税价。

Sheet 模板班组
A1: 学府雅筑配建幼儿园项目——劳务分包清单
A2: 模板班组劳务分包清单
A3: 模板班组清单编制说明 一、工程量清单编制依据 1.本清单工程量适用计算规则:按清单内工程量计算规则为准。 二、工程质量、施工等的特殊要求 1.工程质量要求：达到国家现行施工验收规范合格标准； 2.施工要求：应符合施工规范、验收标准及甲方公司施工技术标准（详附件）的相关要求。工程施工应满足当地政府及当地建设行政主管部门对工程建设的有关规定，并按经批准的施工组织设计实施； 3.工程质量、材料、施工等的特殊要求：具体以最终各项目合同相应条款为准。 三、报价须知 1.乙方负责所有模版材料到场后的人工上下车、标识、清点（含数量确认）、分类堆码、二次及多次倒运等，费用已在报价中综合考虑； 2.清单综合单价中已综合考虑施工难度、风险、停电、停水、层高、施工场地不足、成品保护等因素，后期不因各种原因造成的队伍窝工待工、材料及堆场二次甚至多次转运、政策性调整等各种因素进行价格调整； 3.工期要求：具体工期计算以甲方项目部书面通知为准，所有工期节点按照甲方项目部签字下发的书面为准，并服从甲方各节点工期安排，满足周计划、月计划及总进度计划； 4.若因不可抗力因素（含环保检查影响），导致现场停工等情况，乙方不得因任何原因向甲方索赔，该部分费用乙方报价综合考虑； 5.本工程产生的所有建筑垃圾由乙方负责堆放至甲方指定地点，此费用已考虑在综合单价中； 6.所有天棚（梁和板）原顶交付，乙方自行考虑达到原顶交付增加的措施费用，天棚达到不抹灰标准所产生的清洁、打磨、找补等费用已包含在合同价款中； 7.所有后浇带底模板仅计算一次，侧面模板不单独计量； 8.赶工费用已综合考虑在各项单价中，不再单独计取，具体按各项目施工进度安排，详工期标准文件； 9.若因不可抗力因素（含环保检查影响），导致现场停工等情况，乙方不得因任何原因向甲方索赔，该部分费用乙方报价综合考虑； 10.垂直运输说明：塔吊、施工电梯垂直运输机械甲供，存在垂直运输盲区的乙方必须安排人工搬运，乙方已知悉，不得因垂直运输机械布置向甲方索赔任何费用； 11.本项目范围内的所有工作，不涉及任何零星用工；涉及合同范围外的用工，后期以各项目具体情况为准且必须由乙方负责人向甲方项目经理申请同意后方可实施； 12.清单项中描述不完全的后期应以各项目具体情况为准； 13.本清单漏项的项目，后期签订补充协议予以确认。
A4: 序号 | B4: 项目名称 | C4: 项目特征 | D4: 单位 | E4: 暂定工程量 | F4: 2026.3.11协商价（中标价） | H4: 控制价 | J4: 投标价 | L4: 工程量计算规则 | M4: 备注
F5: 含税单价（元） | G5: 含税合价（元） | H5: 含税单价（元） | I5: 含税合价（元） | J5: 含税单价（元） | K5: 含税合价（元）
A6: 1 | B6: 模板 | C6: 1.部位：包括不限于地上、地下垫层、主体结构、二次结构所有模板； 2.包含模板及支撑的加工制作、安装、拆除、清理、整理堆放、涂刷隔离剂等（包工包料）； 3.材料提供：模板、支撑所用材料（包括辅材及消耗性材料）均由乙方自采，费用包含在单价中。对拉螺栓、止水螺杆等均由乙方自采，综合考虑在单价中。 4.模板垂直运输费用、模板超高施工增加费包含在单价中。 | D6: m2 | E6: 14000 | F6: 89 | G6: =E6*F6 -> 1246000 | H6: =F6*1.1 -> 97.9 | I6: =H6*E6 -> 1370600 | L6: 按混凝土与模板接触面积计算 | M6: 对拉螺栓、止水丝杆等所有洞眼堵眼费综合考虑在抹灰费用中，不另计。
A7: 2 | B7: 合计 | G7: =G6 -> 1246000 | I7: =I6 -> 1370600
A8: 3 | B8: 零星用工普工 | D8: 工日 | E8: 1 | F8: 200 | H8: =F8*1.1 -> 220
A9: 4 | B9: 零星用工技工 | D9: 工日 | E9: 1 | F9: 300 | H9: =F9*1.1 -> 330
A10: 备注：数量为暂定数量，最终按现场实际结算。以上价格均为含税价。

Sheet 脚手架班组
A1: 学府雅筑配建幼儿园项目——劳务分包清单
A2: 脚手架班组劳务分包清单
A3: 脚手架班组清单编制说明 一、工程量清单编制依据 1.本清单工程量适用计算规则:按清单内工程量计算规则为准。 二、工程质量、施工等的特殊要求 1.工程质量要求：达到国家现行施工验收规范合格标准； 2.施工要求：应符合施工规范、验收标准及甲方公司施工技术标准（详附件）的相关要求。工程施工应满足当地政府及当地建设行政主管部门对工程建设的有关规定，并按经批准的施工组织设计实施； 3.工程质量、材料、施工等的特殊要求：具体以最终各项目合同相应条款为准。 三、报价须知 1.乙方负责所有脚手架材料到场后的人工上下车、标识、清点（含数量确认）、分类堆码、二次及多次倒运等，费用已在报价中综合考虑； 2.清单综合单价中已综合考虑施工难度、风险、停电、停水、层高、施工场地不足、成品保护等因素，后期不因各种原因造成的队伍窝工待工、材料及堆场二次甚至多次转运、政策性调整等各种因素进行价格调整； 3.工期要求：具体工期计算以甲方项目部书面通知为准，所有工期节点按照甲方项目部签字下发的书面为准，并服从甲方各节点工期安排，满足周计划、月计划及总进度计划； 4.若因不可抗力因素（含环保检查影响），导致现场停工等情况，乙方不得因任何原因向甲方索赔，该部分费用乙方报价综合考虑； 5.本工程产生的所有建筑垃圾由乙方负责堆放至甲方指定地点，此费用已考虑在综合单价中； 6.脚手架所需安全网、扣件、木方、垫板及搭、拆脚手架、斜道、上料平台 测试电动装置、安全锁等，拆除脚手架后材料的堆放费用包含在报价中； 7.脚手架安装所采用施工方式（落地架/内支撑架/斜撑架）由乙方自行综合考虑，费用包含在综合单价内，不因安装方式等调整单价； 8.赶工费用已综合考虑在各项单价中，不再单独计取，具体按各项目施工进度安排，详工期标准文件； 9.若因不可抗力因素（含环保检查影响），导致现场停工等情况，乙方不得因任何原因向甲方索赔，该部分费用乙方报价综合考虑； 10.垂直运输说明：塔吊、施工电梯垂直运输机械甲供，存在垂直运输盲区的乙方必须安排人工搬运，乙方已知悉，不得因垂直运输机械布置向甲方索赔任何费用； 11.本项目范围内的所有工作，不涉及任何零星用工；涉及合同范围外的用工，后期以各项目具体情况为准且必须由乙方负责人向甲方项目经理申请同意后方可实施； 12.清单项中描述不完全的后期应以各项目具体情况为准； 13.本清单漏项的项目，后期签订补充协议予以确认。
A4: 序号 | B4: 项目名称 | C4: 项目特征 | D4: 单位 | E4: 暂定工程量 | F4: 2026.3.11协商价（中标价） | H4: 控制价 | J4: 投标价 | L4: 工程量计算规则 | M4: 备注
F5: 含税单价（元） | G5: 含税合价（元） | H5: 含税单价（元） | I5: 含税合价（元） | J5: 含税单价（元） | K5: 含税合价（元）
A6: 1 | B6: 脚手架（地上） | C6: 项目范围内竣工验收前结构图及建筑图的所有脚手架工程承包内容（包工包料） 1.承包人负责按发包人提供的外架施工方案搭设，包含按规范要求、工作内容包括定额规定综合外脚手架搭设全工序内容。 2.包含材料进场整理并运至场内指定地点堆放、材料分类归集、堆码，工程完工材料拆除后钢管、安全网、扣件分类堆放到项目部指定地点及时运出工地等全部工作内容。 3.承包人负责施工中的钢管脚手架维护和修缮工作，定期清理安全网、兜底网。 4.钢管、扣减、悬挑槽钢等承包人提供的材料必须符合国家现行规范、行业标准（以标准高者为准）验收标准。并按当地安监站规定要求材料送检，提供检测合格报告发包人；相关费用综合考虑在综合单价内。 5.采用钢笆网，费用包含在单价内。 | D6: m2 | E6: =3843.91-402.26 -> 3441.65 | F6: 50 | G6: =E6*F6 -> 172082.5 | H6: =F6*1.1 -> 55 | I6: =H6*E6 -> 189290.75 | L6: 按照过审版施工图上标注的地上部分建筑面积以平米计算，隔震层面积不计。 | M6: 采用钢笆网
A7: 2 | B7: 脚手架（地下） | C7: 项目范围内竣工验收前结构图及建筑图的所有脚手架工程承包内容（包工包料） 1.承包人负责按发包人提供的外架施工方案搭设，包含按规范要求、工作内容包括定额规定综合外脚手架搭设全工序内容。 2.包含材料进场整理并运至场内指定地点堆放、材料分类归集、堆码，工程完工材料拆除后钢管、安全网、扣件分类堆放到项目部指定地点及时运出工地等全部工作内容。 3.承包人负责施工中的钢管脚手架维护和修缮工作，定期清理安全网、兜底网。 4.钢管、扣减、悬挑槽钢等承包人提供的材料必须符合国家现行规范、行业标准（以标准高者为准）验收标准。并按当地安监站规定要求材料送检，提供检测合格报告发包人；相关费用综合考虑在综合单价内。 | D7: m2 | E7: =402.26+1627.96 -> 2030.22 | F7: 16 | G7: =E7*F7 -> 32483.52 | H7: =F7*1.1 -> 17.6 | I7: =H7*E7 -> 35731.872 | L7: 按照过审版施工图上标注的地下部分建筑面积与隔震层面积之和以平米计算。
A8: 3 | B8: 合计 | G8: =SUM(G6:G7) -> 204566.02 | I8: =SUM(I6:I7) -> 225022.62
A9: 4 | B9: 零星用工普工 | D9: 工日 | E9: 1 | F9: 200 | H9: =F9*1.1 -> 220
A10: 5 | B10: 零星用工技工 | D10: 工日 | E10: 1 | F10: 300 | H10: =F10*1.1 -> 330
A11: 备注：数量为暂定数量，最终按现场实际结算。以上价格均为含税价，

Sheet 水电班组
A1: 学府雅筑配建幼儿园项目——劳务分包清单
A2: 水电班组劳务分包清单
A3: 水电班组控制价清单编制说明 一、工程量清单编制依据 1.本清单工程量适用计算规则:按清单内工程量计算规则为准。 二、工程质量、施工等的特殊要求 1.工程质量要求：达到国家现行施工验收规范合格标准； 2.施工要求：应符合施工规范、验收标准及甲方公司施工技术标准（详附件）的相关要求。工程施工应满足当地政府及当地建设行政主管部门对工程建设的有关规定，并按经批准的施工组织设计实施； 3.工程质量、材料、施工等的特殊要求：具体以最终各项目合同相应条款为准。 三、报价须知 1.乙方负责所有甲供材到场后的人工上下车、标识、清点（含数量确认）、分类堆码、二次及多次倒运等，费用已在报价中综合考虑； 2.清单综合单价中已综合考虑施工难度、风险、停电、停水、层高、施工场地不足、成品保护等因素，后期不因各种原因造成的队伍窝工待工、材料及堆场二次甚至多次转运、政策性调整等各种因素进行价格调整； 3.工期要求：具体工期计算以甲方项目部书面通知为准，所有工期节点按照甲方项目部签字下发的书面为准，并服从甲方各节点工期安排，满足周计划、月计划及总进度计划； 4.若因不可抗力因素（含环保检查影响），导致甲供材料供应不及时或现场停工等情况，乙方不得因任何原因向甲方索赔，该部分费用乙方报价综合考虑； 5.本工程产生的所有建筑垃圾由乙方负责堆放至甲方指定地点，此费用已考虑在综合单价中； 6.采用施工方式由乙方自行综合考虑，费用包含在综合单价内； 7.赶工费用已综合考虑在各项单价中，不再单独计取，具体按各项目施工进度安排，详工期标准文件； 若因不可抗力因素（含环保检查影响），导致甲供材料供应不及时或现场停工等情况，乙方不得因任何原因向甲方索赔，该部分费用乙方报价综合考虑； 8.垂直运输说明：塔吊、施工电梯垂直运输机械甲供，存在垂直运输盲区的乙方必须安排人工搬运，乙方已知悉，不得因垂直运输机械布置向甲方索赔任何费用； 9.本项目范围内的所有工作，不涉及任何零星用工；涉及合同范围外的用工，后期以各项目具体情况为准且必须由乙方负责人向甲方项目经理申请同意后方可实施； 10.清单项中描述不完全的后期应以各项目具体情况为准。 11.本清单漏项的项目，后期签订补充协议予以确认。
A4: 序号 | B4: 项目名称 | C4: 项目特征 | D4: 单位 | E4: 暂定工程量 | F4: 2026.3.11协商价（中标价） | H4: 控制价 | J4: 投标价 | L4: 工程量计算规则 | M4: 备注
F5: 含税单价（元） | G5: 含税合价（元） | H5: 含税单价（元） | I5: 含税合价（元） | J5: 含税单价（元） | K5: 含税合价（元）
A6: 1 | B6: 主体水电安装 | C6: 1.工作内容：除消防、空调、弱电、供配电等专业分包外所有水电施工范围内的强弱电、给排水、通风接地、预警报警等安装工作； 2.材料提供：给排水管及配件、PVC线管及配件、SC钢管及配件、电线电缆、配电箱、线鼻子、桥架、圆钢、角钢、扁铁、五金件、洁具等由甲方提供，其他辅材及消耗性材料由乙方自采，费用包含在单价中； 3.垂直运输费用包含在此单价中。 4.具体施工范围详附件。 | D6: m2 | E6: 3843.91 | F6: 53 | G6: =E6*F6 -> 203727.23 | H6: =F6*1.1 -> 58.3 | I6: =H6*E6 -> 224099.95 | L6: 按照过审版施工图上标注的总建筑面积以平米计算，隔震层面积不计。
A7: 2 | B7: 临水临电维护 | C7: 1.工作内容：生活区与施工区临时水电安装，含强弱电工程管线的敷设与附件、设备安装施工与运行维护工作，包括根据工程进度进行临时电管线、箱柜的移改。施工区临时用电从箱变出线安装至各二级柜，临时用水泵房、施工大门等，各楼栋临时照明安装，分包单位需配备至少一名专职电工负责履行不限于巡视、接线、维修、各分包单位计量表计量等工作； 2.材料提供：给排水管及配件、PVC线管及配件、SC钢管及配件、电线电缆、配电箱、线鼻子、桥架、圆钢、角钢、扁铁、五金件、洁具等由甲方提供，其他辅材及消耗性材料由乙方自采，费用包含在单价中； 3.垂直运输费用包含在此单价中。 4.具体施工范围详附件。 | D7: m2 | E7: 3843.91 | F7: 10 | G7: =E7*F7 -> 38439.1 | H7: =F7*1.1 -> 11 | I7: =H7*E7 -> 42283.01 | L7: 按照过审版施工图上标注的总建筑面积以平米计算，隔震层面积不计。
A8: 3 | B8: 合计 | G8: =SUM(G6:G7) -> 242166.33 | I8: =SUM(I6:I7) -> 266382.96
A9: 4 | B9: 零星用工普工 | D9: 工日 | E9: 1 | F9: 200 | H9: =F9*1.1 -> 220
A10: 5 | B10: 零星用工技工 | D10: 工日 | E10: 1 | F10: 300 | H10: =F10*1.1 -> 330
A11: 备注：数量为暂定数量，最终按现场实际结算。以上价格均为含税价。

Sheet 水电施工范围
A1: 学府雅筑配建幼儿园劳务分包水电施工范围
A2: 序号 | B2: 分部分项名称 | C2: 施工范围说明
A3: 1 | B3: 临时用水 | C3: 甲方提供临水环网及临水接驳点，乙方负责完成从临水接驳点往下至各个工作面的管路接入及维护工作；（不含前期已完成的内容），所有给排水管及配件、PVC线管及配件、SC钢管及配件、闸阀等主要材料由甲方提供并承担相应费用，其余辅材由乙方购买并承担相应费用。施工用水费用由甲方承担。
A4: 2 | B4: 临时用电 | C4: 生活区、施工区、施工大门等临时水电安装（不含前期已完成的内容），含强弱电工程管线的敷设与附件、设备安装施工与运行维护工作，包括根据工程进度进行临时电管线、箱柜的移改。施工区临时用电从箱变（一级配电柜）出线安装至各三级柜和各设备开关箱，各楼栋临时照明安装，（不含前期已完成的内容）；所有临电箱及线的迁移、维修、维护；分包单位需配备至少一名专职电工负责履行不限于巡视、接线、维修；电工应满足持证上岗要求，施工用电费用由甲方承担。 一级配电柜至二级配电柜（含）所有配电箱、电源箱、电缆电线、线鼻子、线管、套管、灯具、开关、插座、桥架、圆钢、角钢、扁铁、五金件、洁具、设备等主要材料由甲方提供，其他所有临电辅材由乙方购买并承担相应费用；二级配电柜至三级配电柜的主材及辅材等所有材料均乙方自行购买并承担相应费用。
A5: 3 | B5: 给水系统 | C5: 本系统范围内的给水系统管道及附件安装，始于水井内的户表，止于室内入户厨房（或卫生间安装1个水龙头）。包含支管接口需临时堵头封堵（若需要），确保系统密闭性与使用安全性，包括管道试压、冲洗，通水试验等全流程工序；
A6: 4 | B6: 热水系统 | C6: 预留管道洞口及封堵；配合冷热水管道的预留预埋（上至出屋面预留接口（若设计有），下至厨房或卫生间预留堵头）；配合完成管道试压、冲洗、消毒、试验及调试等；配水点均需实施临时堵头封堵，保障系统启用前的稳定状态。
A7: 5 | B7: 排水工程 | C7: 本系统范围内的排水系统管道及附件安装，施工始于室外第一个污水井。（不含污水井施工、井盖安装），止于楼内所有排水点，不含卫生间排污支管；雨水及冷凝水需从排水点敷设至散水沟；地下室有压排水系统需接入指定雨水井（若有）。包括管道通球试验、灌水试验、防腐处理及管洞封堵等。
A8: 6 | B8: 弱电工程 | C8: 本系统所有管线预留预埋，管道引线敷设。
A9: 7 | B9: 供配电（强电）工程 | C9: 地上住房部分 始于电井内的户表，止于室内入户配电箱（含配电箱），穿线管及终端接线盒的预埋，不含穿线；本劳务施工范围内的公共部分（含水井、电井、电梯机房）的电源箱及配管、配线、照明、开关、插座等安装；地下部分 地下室配电箱包括动力配电箱（除各专业分包安装外）、普通和应急照明电源箱、机房电源箱、消防各分区电源箱、弱电电源箱、生活水泵电源箱、电梯电源箱、排污泵控制箱、强排水泵控制箱等；本系统范围内的低压柜（配电室）至所有电源箱的桥架、电缆安装；地下室的普通照明线路管线敷设、灯具、开关等安装；
A10: 8 | B10: 接地与防雷系统 | C10: 所有接地工程，除高低压配电房、弱电机房、消防水泵房、风机房、电梯机房等设备机房接地外的防雷接地均为劳务施工范围；防雷接地系统的测试与验收必须合格。
A11: 9 | B11: 空调工程 | C11: 管洞预留预埋、穿线管预留预埋。
A12: 10 | B12: 消防和通风工程 | C12: 配合消防专业施工队管道洞口、线管线盒等预留预埋（如钢筋需要加固、需要预留洞口等配合）。
A13: 11 | B13: 总平及室内衔接施工 | C13: 所有水电施工涉及的室内管道出室外总平的第一个检查井，检查井施工及阀门的安装和其土方开挖、回填夯实等由甲方负责。
